BEGIN:VCALENDAR
VERSION:2.0
PRODID:-//HARLEY-DAVIDSON CLUB TWENTE - ECPv6.15.20//NONSGML v1.0//EN
CALSCALE:GREGORIAN
METHOD:PUBLISH
X-WR-CALNAME:HARLEY-DAVIDSON CLUB TWENTE
X-ORIGINAL-URL:https://h-dctwente.nl
X-WR-CALDESC:Evenementen voor HARLEY-DAVIDSON CLUB TWENTE
REFRESH-INTERVAL;VALUE=DURATION:PT1H
X-Robots-Tag:noindex
X-PUBLISHED-TTL:PT1H
BEGIN:VTIMEZONE
TZID:Europe/Amsterdam
BEGIN:DAYLIGHT
TZOFFSETFROM:+0100
TZOFFSETTO:+0200
TZNAME:CEST
DTSTART:20230326T010000
END:DAYLIGHT
BEGIN:STANDARD
TZOFFSETFROM:+0200
TZOFFSETTO:+0100
TZNAME:CET
DTSTART:20231029T010000
END:STANDARD
BEGIN:DAYLIGHT
TZOFFSETFROM:+0100
TZOFFSETTO:+0200
TZNAME:CEST
DTSTART:20240331T010000
END:DAYLIGHT
BEGIN:STANDARD
TZOFFSETFROM:+0200
TZOFFSETTO:+0100
TZNAME:CET
DTSTART:20241027T010000
END:STANDARD
BEGIN:DAYLIGHT
TZOFFSETFROM:+0100
TZOFFSETTO:+0200
TZNAME:CEST
DTSTART:20250330T010000
END:DAYLIGHT
BEGIN:STANDARD
TZOFFSETFROM:+0200
TZOFFSETTO:+0100
TZNAME:CET
DTSTART:20251026T010000
END:STANDARD
END:VTIMEZONE
BEGIN:VEVENT
DTSTART;VALUE=DATE:20240510
DTEND;VALUE=DATE:20240511
DTSTAMP:20260420T044331
CREATED:20240308T124912Z
LAST-MODIFIED:20240308T124912Z
UID:1310-1715299200-1715385599@h-dctwente.nl
SUMMARY:The Wessex Wobbler Rally (H-DRCGB)
DESCRIPTION:More info: https://www.hdrcgb.org/
URL:https://h-dctwente.nl/event/the-wessex-wobbler-rally-h-drcgb/
END:VEVENT
END:VCALENDAR