BEGIN:VCALENDAR
VERSION:2.0
PRODID:-//HARLEY-DAVIDSON CLUB TWENTE - ECPv6.15.20//NONSGML v1.0//EN
CALSCALE:GREGORIAN
METHOD:PUBLISH
X-ORIGINAL-URL:https://h-dctwente.nl
X-WR-CALDESC:Evenementen voor HARLEY-DAVIDSON CLUB TWENTE
REFRESH-INTERVAL;VALUE=DURATION:PT1H
X-Robots-Tag:noindex
X-PUBLISHED-TTL:PT1H
BEGIN:VTIMEZONE
TZID:Europe/Amsterdam
BEGIN:DAYLIGHT
TZOFFSETFROM:+0100
TZOFFSETTO:+0200
TZNAME:CEST
DTSTART:20230326T010000
END:DAYLIGHT
BEGIN:STANDARD
TZOFFSETFROM:+0200
TZOFFSETTO:+0100
TZNAME:CET
DTSTART:20231029T010000
END:STANDARD
BEGIN:DAYLIGHT
TZOFFSETFROM:+0100
TZOFFSETTO:+0200
TZNAME:CEST
DTSTART:20240331T010000
END:DAYLIGHT
BEGIN:STANDARD
TZOFFSETFROM:+0200
TZOFFSETTO:+0100
TZNAME:CET
DTSTART:20241027T010000
END:STANDARD
BEGIN:DAYLIGHT
TZOFFSETFROM:+0100
TZOFFSETTO:+0200
TZNAME:CEST
DTSTART:20250330T010000
END:DAYLIGHT
BEGIN:STANDARD
TZOFFSETFROM:+0200
TZOFFSETTO:+0100
TZNAME:CET
DTSTART:20251026T010000
END:STANDARD
END:VTIMEZONE
BEGIN:VEVENT
DTSTART;VALUE=DATE:20240621
DTEND;VALUE=DATE:20240624
DTSTAMP:20260420T031531
CREATED:20240308T135758Z
LAST-MODIFIED:20240308T135758Z
UID:1334-1718928000-1719187199@h-dctwente.nl
SUMMARY:Border Run (H-DCB)
DESCRIPTION:More info: https://www.hdcbreda.nl/
URL:https://h-dctwente.nl/event/border-run-h-dcb/
END:VEVENT
BEGIN:VEVENT
DTSTART;VALUE=DATE:20240621
DTEND;VALUE=DATE:20240624
DTSTAMP:20260420T031531
CREATED:20240308T135923Z
LAST-MODIFIED:20240308T135923Z
UID:1336-1718928000-1719187199@h-dctwente.nl
SUMMARY:Midsummer Rally (H-DCF)
DESCRIPTION:More info: http://www.hdcf.fi/
URL:https://h-dctwente.nl/event/midsummer-rally-h-dcf/
END:VEVENT
BEGIN:VEVENT
DTSTART;VALUE=DATE:20240621
DTEND;VALUE=DATE:20240624
DTSTAMP:20260420T031531
CREATED:20240308T140027Z
LAST-MODIFIED:20240308T140027Z
UID:1338-1718928000-1719187199@h-dctwente.nl
SUMMARY:96th Anniversary H-DCP (H-DCP)
DESCRIPTION:More info: https://www.hdcp.cz/
URL:https://h-dctwente.nl/event/96th-anniversary-h-dcp-h-dcp/
END:VEVENT
BEGIN:VEVENT
DTSTART;VALUE=DATE:20240621
DTEND;VALUE=DATE:20240624
DTSTAMP:20260420T031531
CREATED:20240308T140201Z
LAST-MODIFIED:20240308T140201Z
UID:1340-1718928000-1719187199@h-dctwente.nl
SUMMARY:The Harley Hooley 2024 (HRI)
DESCRIPTION:More info: https://harleyridersireland.ie/
URL:https://h-dctwente.nl/event/the-harley-hooley-2024-hri/
END:VEVENT
BEGIN:VEVENT
DTSTART;VALUE=DATE:20240621
DTEND;VALUE=DATE:20240624
DTSTAMP:20260420T031531
CREATED:20240308T140312Z
LAST-MODIFIED:20240308T140312Z
UID:1342-1718928000-1719187199@h-dctwente.nl
SUMMARY:International Rally (H-DOCN)
DESCRIPTION:More info: https://h-docn.no/main/
URL:https://h-dctwente.nl/event/international-rally-h-docn/
END:VEVENT
END:VCALENDAR