BEGIN:VCALENDAR
VERSION:2.0
PRODID:-//HARLEY-DAVIDSON CLUB TWENTE - ECPv6.15.20//NONSGML v1.0//EN
CALSCALE:GREGORIAN
METHOD:PUBLISH
X-ORIGINAL-URL:https://h-dctwente.nl
X-WR-CALDESC:Evenementen voor HARLEY-DAVIDSON CLUB TWENTE
REFRESH-INTERVAL;VALUE=DURATION:PT1H
X-Robots-Tag:noindex
X-PUBLISHED-TTL:PT1H
BEGIN:VTIMEZONE
TZID:Europe/Amsterdam
BEGIN:DAYLIGHT
TZOFFSETFROM:+0100
TZOFFSETTO:+0200
TZNAME:CEST
DTSTART:20230326T010000
END:DAYLIGHT
BEGIN:STANDARD
TZOFFSETFROM:+0200
TZOFFSETTO:+0100
TZNAME:CET
DTSTART:20231029T010000
END:STANDARD
BEGIN:DAYLIGHT
TZOFFSETFROM:+0100
TZOFFSETTO:+0200
TZNAME:CEST
DTSTART:20240331T010000
END:DAYLIGHT
BEGIN:STANDARD
TZOFFSETFROM:+0200
TZOFFSETTO:+0100
TZNAME:CET
DTSTART:20241027T010000
END:STANDARD
BEGIN:DAYLIGHT
TZOFFSETFROM:+0100
TZOFFSETTO:+0200
TZNAME:CEST
DTSTART:20250330T010000
END:DAYLIGHT
BEGIN:STANDARD
TZOFFSETFROM:+0200
TZOFFSETTO:+0100
TZNAME:CET
DTSTART:20251026T010000
END:STANDARD
END:VTIMEZONE
BEGIN:VEVENT
DTSTART;VALUE=DATE:20240705
DTEND;VALUE=DATE:20240708
DTSTAMP:20260420T014159
CREATED:20240308T140659Z
LAST-MODIFIED:20240308T140659Z
UID:1346-1720137600-1720396799@h-dctwente.nl
SUMMARY:The Lakes Rally (H-DRCGB)
DESCRIPTION:More info: https://www.hdrcgb.org/
URL:https://h-dctwente.nl/event/the-lakes-rally-h-drcgb/
END:VEVENT
BEGIN:VEVENT
DTSTART;VALUE=DATE:20240705
DTEND;VALUE=DATE:20240708
DTSTAMP:20260420T014159
CREATED:20240415T140752Z
LAST-MODIFIED:20240415T140752Z
UID:1664-1720137600-1720396799@h-dctwente.nl
SUMMARY:8th Rally Roulette (H-DCK)
DESCRIPTION:More info: http://www.karlsgarten-vtwin.de/
URL:https://h-dctwente.nl/event/8th-rally-roulette-h-dck/
END:VEVENT
BEGIN:VEVENT
DTSTART;VALUE=DATE:20240707
DTEND;VALUE=DATE:20240709
DTSTAMP:20260420T014159
CREATED:20240308T140803Z
LAST-MODIFIED:20240308T140803Z
UID:1348-1720310400-1720483199@h-dctwente.nl
SUMMARY:Kalamata Ride (H-DCH)
DESCRIPTION:More info: https://www.hdch.gr/
URL:https://h-dctwente.nl/event/kalamata-ride-h-dch/
END:VEVENT
END:VCALENDAR