BEGIN:VCALENDAR
VERSION:2.0
PRODID:-//HARLEY-DAVIDSON CLUB TWENTE - ECPv6.15.20//NONSGML v1.0//EN
CALSCALE:GREGORIAN
METHOD:PUBLISH
X-ORIGINAL-URL:https://h-dctwente.nl
X-WR-CALDESC:Evenementen voor HARLEY-DAVIDSON CLUB TWENTE
REFRESH-INTERVAL;VALUE=DURATION:PT1H
X-Robots-Tag:noindex
X-PUBLISHED-TTL:PT1H
BEGIN:VTIMEZONE
TZID:Europe/Amsterdam
BEGIN:DAYLIGHT
TZOFFSETFROM:+0100
TZOFFSETTO:+0200
TZNAME:CEST
DTSTART:20230326T010000
END:DAYLIGHT
BEGIN:STANDARD
TZOFFSETFROM:+0200
TZOFFSETTO:+0100
TZNAME:CET
DTSTART:20231029T010000
END:STANDARD
BEGIN:DAYLIGHT
TZOFFSETFROM:+0100
TZOFFSETTO:+0200
TZNAME:CEST
DTSTART:20240331T010000
END:DAYLIGHT
BEGIN:STANDARD
TZOFFSETFROM:+0200
TZOFFSETTO:+0100
TZNAME:CET
DTSTART:20241027T010000
END:STANDARD
BEGIN:DAYLIGHT
TZOFFSETFROM:+0100
TZOFFSETTO:+0200
TZNAME:CEST
DTSTART:20250330T010000
END:DAYLIGHT
BEGIN:STANDARD
TZOFFSETFROM:+0200
TZOFFSETTO:+0100
TZNAME:CET
DTSTART:20251026T010000
END:STANDARD
END:VTIMEZONE
BEGIN:VEVENT
DTSTART;VALUE=DATE:20240711
DTEND;VALUE=DATE:20240715
DTSTAMP:20260420T014318
CREATED:20240308T140927Z
LAST-MODIFIED:20240308T140927Z
UID:1350-1720656000-1721001599@h-dctwente.nl
SUMMARY:44th International Rally (H-DCF)
DESCRIPTION:More info: http://www.hdcf.fi/
URL:https://h-dctwente.nl/event/44th-international-rally-h-dcf/
END:VEVENT
BEGIN:VEVENT
DTSTART;VALUE=DATE:20240712
DTEND;VALUE=DATE:20240715
DTSTAMP:20260420T014318
CREATED:20240308T141304Z
LAST-MODIFIED:20240308T141304Z
UID:1354-1720742400-1721001599@h-dctwente.nl
SUMMARY:35th Anniversary Rally (H-DCW)
DESCRIPTION:More info: http://www.h-dcw.com/
URL:https://h-dctwente.nl/event/35th-anniversary-rally-h-dcw/
END:VEVENT
BEGIN:VEVENT
DTSTART;VALUE=DATE:20240713
DTEND;VALUE=DATE:20240715
DTSTAMP:20260420T014318
CREATED:20240308T141141Z
LAST-MODIFIED:20240308T141141Z
UID:1352-1720828800-1721001599@h-dctwente.nl
SUMMARY:17th International Harley Days (H-DCA)
DESCRIPTION:More info: http://www.hdcassenede.be/
URL:https://h-dctwente.nl/event/17th-international-harley-days-h-dca/
END:VEVENT
END:VCALENDAR