BEGIN:VCALENDAR
VERSION:2.0
PRODID:-//HARLEY-DAVIDSON CLUB TWENTE - ECPv6.15.20//NONSGML v1.0//EN
CALSCALE:GREGORIAN
METHOD:PUBLISH
X-ORIGINAL-URL:https://h-dctwente.nl
X-WR-CALDESC:Evenementen voor HARLEY-DAVIDSON CLUB TWENTE
REFRESH-INTERVAL;VALUE=DURATION:PT1H
X-Robots-Tag:noindex
X-PUBLISHED-TTL:PT1H
BEGIN:VTIMEZONE
TZID:Europe/Amsterdam
BEGIN:DAYLIGHT
TZOFFSETFROM:+0100
TZOFFSETTO:+0200
TZNAME:CEST
DTSTART:20240331T010000
END:DAYLIGHT
BEGIN:STANDARD
TZOFFSETFROM:+0200
TZOFFSETTO:+0100
TZNAME:CET
DTSTART:20241027T010000
END:STANDARD
BEGIN:DAYLIGHT
TZOFFSETFROM:+0100
TZOFFSETTO:+0200
TZNAME:CEST
DTSTART:20250330T010000
END:DAYLIGHT
BEGIN:STANDARD
TZOFFSETFROM:+0200
TZOFFSETTO:+0100
TZNAME:CET
DTSTART:20251026T010000
END:STANDARD
BEGIN:DAYLIGHT
TZOFFSETFROM:+0100
TZOFFSETTO:+0200
TZNAME:CEST
DTSTART:20260329T010000
END:DAYLIGHT
BEGIN:STANDARD
TZOFFSETFROM:+0200
TZOFFSETTO:+0100
TZNAME:CET
DTSTART:20261025T010000
END:STANDARD
END:VTIMEZONE
BEGIN:VEVENT
DTSTART;VALUE=DATE:20250627
DTEND;VALUE=DATE:20250630
DTSTAMP:20260419T230228
CREATED:20250410T004703Z
LAST-MODIFIED:20250410T004703Z
UID:3484-1750982400-1751241599@h-dctwente.nl
SUMMARY:Midsummer Rally (H-DCDK)
DESCRIPTION:More info: https://hdc.dk/
URL:https://h-dctwente.nl/event/midsummer-rally-h-dcdk/
END:VEVENT
BEGIN:VEVENT
DTSTART;VALUE=DATE:20250627
DTEND;VALUE=DATE:20250630
DTSTAMP:20260419T230228
CREATED:20250410T004835Z
LAST-MODIFIED:20250410T004835Z
UID:3486-1750982400-1751241599@h-dctwente.nl
SUMMARY:Cool in the Pool (H-DCN)
DESCRIPTION:More info: https://sites.google.com/h-dcn.nl/oost/
URL:https://h-dctwente.nl/event/cool-in-the-pool-h-dcn/
END:VEVENT
END:VCALENDAR