BEGIN:VCALENDAR
VERSION:2.0
PRODID:-//HARLEY-DAVIDSON CLUB TWENTE - ECPv6.15.20//NONSGML v1.0//EN
CALSCALE:GREGORIAN
METHOD:PUBLISH
X-ORIGINAL-URL:https://h-dctwente.nl
X-WR-CALDESC:Evenementen voor HARLEY-DAVIDSON CLUB TWENTE
REFRESH-INTERVAL;VALUE=DURATION:PT1H
X-Robots-Tag:noindex
X-PUBLISHED-TTL:PT1H
BEGIN:VTIMEZONE
TZID:Europe/Amsterdam
BEGIN:DAYLIGHT
TZOFFSETFROM:+0100
TZOFFSETTO:+0200
TZNAME:CEST
DTSTART:20240331T010000
END:DAYLIGHT
BEGIN:STANDARD
TZOFFSETFROM:+0200
TZOFFSETTO:+0100
TZNAME:CET
DTSTART:20241027T010000
END:STANDARD
BEGIN:DAYLIGHT
TZOFFSETFROM:+0100
TZOFFSETTO:+0200
TZNAME:CEST
DTSTART:20250330T010000
END:DAYLIGHT
BEGIN:STANDARD
TZOFFSETFROM:+0200
TZOFFSETTO:+0100
TZNAME:CET
DTSTART:20251026T010000
END:STANDARD
BEGIN:DAYLIGHT
TZOFFSETFROM:+0100
TZOFFSETTO:+0200
TZNAME:CEST
DTSTART:20260329T010000
END:DAYLIGHT
BEGIN:STANDARD
TZOFFSETFROM:+0200
TZOFFSETTO:+0100
TZNAME:CET
DTSTART:20261025T010000
END:STANDARD
END:VTIMEZONE
BEGIN:VEVENT
DTSTART;VALUE=DATE:20250725
DTEND;VALUE=DATE:20250728
DTSTAMP:20260420T003556
CREATED:20250410T010358Z
LAST-MODIFIED:20250410T010358Z
UID:3506-1753401600-1753660799@h-dctwente.nl
SUMMARY:Fyns Harley Meeting (H-DCDK)
DESCRIPTION:More info: https://hdcf.dk/
URL:https://h-dctwente.nl/event/fyns-harley-meeting-h-dcdk/
END:VEVENT
BEGIN:VEVENT
DTSTART;VALUE=DATE:20250725
DTEND;VALUE=DATE:20250728
DTSTAMP:20260420T003556
CREATED:20250410T010502Z
LAST-MODIFIED:20250410T010502Z
UID:3508-1753401600-1753660799@h-dctwente.nl
SUMMARY:Burning Budgie 2025 (WLHR)
DESCRIPTION:More info: https://www.facebook.com/groups/111442553395/?ref=share
URL:https://h-dctwente.nl/event/burning-budgie-2025-wlhr/
END:VEVENT
BEGIN:VEVENT
DTSTART;VALUE=DATE:20250725
DTEND;VALUE=DATE:20250728
DTSTAMP:20260420T003556
CREATED:20250410T010559Z
LAST-MODIFIED:20250410T010559Z
UID:3510-1753401600-1753660799@h-dctwente.nl
SUMMARY:Pitch & Party (R17/H-DRCGB)
DESCRIPTION:More info: https://www.hdrcgb.org/
URL:https://h-dctwente.nl/event/pitch-party-r17-h-drcgb/
END:VEVENT
END:VCALENDAR