BEGIN:VCALENDAR
VERSION:2.0
PRODID:-//HARLEY-DAVIDSON CLUB TWENTE - ECPv6.15.20//NONSGML v1.0//EN
CALSCALE:GREGORIAN
METHOD:PUBLISH
X-ORIGINAL-URL:https://h-dctwente.nl
X-WR-CALDESC:Evenementen voor HARLEY-DAVIDSON CLUB TWENTE
REFRESH-INTERVAL;VALUE=DURATION:PT1H
X-Robots-Tag:noindex
X-PUBLISHED-TTL:PT1H
BEGIN:VTIMEZONE
TZID:Europe/Amsterdam
BEGIN:DAYLIGHT
TZOFFSETFROM:+0100
TZOFFSETTO:+0200
TZNAME:CEST
DTSTART:20230326T010000
END:DAYLIGHT
BEGIN:STANDARD
TZOFFSETFROM:+0200
TZOFFSETTO:+0100
TZNAME:CET
DTSTART:20231029T010000
END:STANDARD
BEGIN:DAYLIGHT
TZOFFSETFROM:+0100
TZOFFSETTO:+0200
TZNAME:CEST
DTSTART:20240331T010000
END:DAYLIGHT
BEGIN:STANDARD
TZOFFSETFROM:+0200
TZOFFSETTO:+0100
TZNAME:CET
DTSTART:20241027T010000
END:STANDARD
BEGIN:DAYLIGHT
TZOFFSETFROM:+0100
TZOFFSETTO:+0200
TZNAME:CEST
DTSTART:20250330T010000
END:DAYLIGHT
BEGIN:STANDARD
TZOFFSETFROM:+0200
TZOFFSETTO:+0100
TZNAME:CET
DTSTART:20251026T010000
END:STANDARD
END:VTIMEZONE
BEGIN:VEVENT
DTSTART;VALUE=DATE:20240531
DTEND;VALUE=DATE:20240603
DTSTAMP:20260420T031954
CREATED:20240308T131459Z
LAST-MODIFIED:20240308T131459Z
UID:1320-1717113600-1717372799@h-dctwente.nl
SUMMARY:2nd Rally of H-DC des Frontières Section Nord (H-DCF)
DESCRIPTION:More info: http://hdc.frontieres.free.fr/
URL:https://h-dctwente.nl/event/2nd-rally-of-h-dc-des-frontieres-section-nord-h-dcf/
END:VEVENT
BEGIN:VEVENT
DTSTART;VALUE=DATE:20240531
DTEND;VALUE=DATE:20240603
DTSTAMP:20260420T031954
CREATED:20240308T131615Z
LAST-MODIFIED:20240308T131615Z
UID:1322-1717113600-1717372799@h-dctwente.nl
SUMMARY:Aegean Sea Party (H-DCH)
DESCRIPTION:More info: https://www.hdch.gr/
URL:https://h-dctwente.nl/event/aegean-sea-party-h-dch/
END:VEVENT
BEGIN:VEVENT
DTSTART;VALUE=DATE:20240606
DTEND;VALUE=DATE:20240610
DTSTAMP:20260420T031954
CREATED:20240308T133046Z
LAST-MODIFIED:20240308T133046Z
UID:1324-1717632000-1717977599@h-dctwente.nl
SUMMARY:2024 International\, 75 Years 1949-2024 (H-DRCGB)
DESCRIPTION:More info: https://www.hdrcgb.org/
URL:https://h-dctwente.nl/event/2024-international-75-years-1949-2024-h-drcgb/
END:VEVENT
BEGIN:VEVENT
DTSTART;VALUE=DATE:20240607
DTEND;VALUE=DATE:20240610
DTSTAMP:20260420T031954
CREATED:20240308T134124Z
LAST-MODIFIED:20240308T134124Z
UID:1328-1717718400-1717977599@h-dctwente.nl
SUMMARY:H-DC Catalunya Rally (H-DCC)
DESCRIPTION:More info: http://www.hdccatalunya.com/wordpress/ca/
URL:https://h-dctwente.nl/event/h-dc-catalunya-rally-h-dcc/
END:VEVENT
BEGIN:VEVENT
DTSTART;TZID=Europe/Amsterdam:20240607T150000
DTEND;TZID=Europe/Amsterdam:20240609T120000
DTSTAMP:20260420T031954
CREATED:20240308T133920Z
LAST-MODIFIED:20240308T133920Z
UID:1326-1717772400-1717934400@h-dctwente.nl
SUMMARY:International Rally 2024\, 60th Anniversary (H-DCT)
DESCRIPTION:More info: https://h-dctwente.nl/rally-hdct/
URL:https://h-dctwente.nl/event/international-rally-2024-60th-anniversary-h-dct/
END:VEVENT
BEGIN:VEVENT
DTSTART;VALUE=DATE:20240614
DTEND;VALUE=DATE:20240616
DTSTAMP:20260420T031954
CREATED:20240308T135538Z
LAST-MODIFIED:20240308T135538Z
UID:1330-1718323200-1718495999@h-dctwente.nl
SUMMARY:Tsagarada Ride (H-DCH)
DESCRIPTION:More info: https://www.hdch.gr/
URL:https://h-dctwente.nl/event/tsagarada-ride-h-dch/
END:VEVENT
BEGIN:VEVENT
DTSTART;VALUE=DATE:20240621
DTEND;VALUE=DATE:20240622
DTSTAMP:20260420T031954
CREATED:20240308T135652Z
LAST-MODIFIED:20240308T135652Z
UID:1332-1718928000-1719014399@h-dctwente.nl
SUMMARY:New Forest Rally (H-DRCGB)
DESCRIPTION:More info: https://www.hdrcgb.org/
URL:https://h-dctwente.nl/event/new-forest-rally-h-drcgb/
END:VEVENT
BEGIN:VEVENT
DTSTART;VALUE=DATE:20240621
DTEND;VALUE=DATE:20240624
DTSTAMP:20260420T031954
CREATED:20240308T135758Z
LAST-MODIFIED:20240308T135758Z
UID:1334-1718928000-1719187199@h-dctwente.nl
SUMMARY:Border Run (H-DCB)
DESCRIPTION:More info: https://www.hdcbreda.nl/
URL:https://h-dctwente.nl/event/border-run-h-dcb/
END:VEVENT
BEGIN:VEVENT
DTSTART;VALUE=DATE:20240621
DTEND;VALUE=DATE:20240624
DTSTAMP:20260420T031954
CREATED:20240308T135923Z
LAST-MODIFIED:20240308T135923Z
UID:1336-1718928000-1719187199@h-dctwente.nl
SUMMARY:Midsummer Rally (H-DCF)
DESCRIPTION:More info: http://www.hdcf.fi/
URL:https://h-dctwente.nl/event/midsummer-rally-h-dcf/
END:VEVENT
BEGIN:VEVENT
DTSTART;VALUE=DATE:20240621
DTEND;VALUE=DATE:20240624
DTSTAMP:20260420T031954
CREATED:20240308T140027Z
LAST-MODIFIED:20240308T140027Z
UID:1338-1718928000-1719187199@h-dctwente.nl
SUMMARY:96th Anniversary H-DCP (H-DCP)
DESCRIPTION:More info: https://www.hdcp.cz/
URL:https://h-dctwente.nl/event/96th-anniversary-h-dcp-h-dcp/
END:VEVENT
BEGIN:VEVENT
DTSTART;VALUE=DATE:20240621
DTEND;VALUE=DATE:20240624
DTSTAMP:20260420T031954
CREATED:20240308T140201Z
LAST-MODIFIED:20240308T140201Z
UID:1340-1718928000-1719187199@h-dctwente.nl
SUMMARY:The Harley Hooley 2024 (HRI)
DESCRIPTION:More info: https://harleyridersireland.ie/
URL:https://h-dctwente.nl/event/the-harley-hooley-2024-hri/
END:VEVENT
BEGIN:VEVENT
DTSTART;VALUE=DATE:20240621
DTEND;VALUE=DATE:20240624
DTSTAMP:20260420T031954
CREATED:20240308T140312Z
LAST-MODIFIED:20240308T140312Z
UID:1342-1718928000-1719187199@h-dctwente.nl
SUMMARY:International Rally (H-DOCN)
DESCRIPTION:More info: https://h-docn.no/main/
URL:https://h-dctwente.nl/event/international-rally-h-docn/
END:VEVENT
BEGIN:VEVENT
DTSTART;VALUE=DATE:20240628
DTEND;VALUE=DATE:20240629
DTSTAMP:20260420T031954
CREATED:20240308T140419Z
LAST-MODIFIED:20240308T140419Z
UID:1344-1719532800-1719619199@h-dctwente.nl
SUMMARY:The Triple Rally (H-DRCGB)
DESCRIPTION:More info: https://www.hdrcgb.org/
URL:https://h-dctwente.nl/event/the-triple-rally-h-drcgb/
END:VEVENT
BEGIN:VEVENT
DTSTART;VALUE=DATE:20240705
DTEND;VALUE=DATE:20240708
DTSTAMP:20260420T031954
CREATED:20240308T140659Z
LAST-MODIFIED:20240308T140659Z
UID:1346-1720137600-1720396799@h-dctwente.nl
SUMMARY:The Lakes Rally (H-DRCGB)
DESCRIPTION:More info: https://www.hdrcgb.org/
URL:https://h-dctwente.nl/event/the-lakes-rally-h-drcgb/
END:VEVENT
BEGIN:VEVENT
DTSTART;VALUE=DATE:20240705
DTEND;VALUE=DATE:20240708
DTSTAMP:20260420T031954
CREATED:20240415T140752Z
LAST-MODIFIED:20240415T140752Z
UID:1664-1720137600-1720396799@h-dctwente.nl
SUMMARY:8th Rally Roulette (H-DCK)
DESCRIPTION:More info: http://www.karlsgarten-vtwin.de/
URL:https://h-dctwente.nl/event/8th-rally-roulette-h-dck/
END:VEVENT
BEGIN:VEVENT
DTSTART;VALUE=DATE:20240707
DTEND;VALUE=DATE:20240709
DTSTAMP:20260420T031954
CREATED:20240308T140803Z
LAST-MODIFIED:20240308T140803Z
UID:1348-1720310400-1720483199@h-dctwente.nl
SUMMARY:Kalamata Ride (H-DCH)
DESCRIPTION:More info: https://www.hdch.gr/
URL:https://h-dctwente.nl/event/kalamata-ride-h-dch/
END:VEVENT
BEGIN:VEVENT
DTSTART;VALUE=DATE:20240711
DTEND;VALUE=DATE:20240715
DTSTAMP:20260420T031954
CREATED:20240308T140927Z
LAST-MODIFIED:20240308T140927Z
UID:1350-1720656000-1721001599@h-dctwente.nl
SUMMARY:44th International Rally (H-DCF)
DESCRIPTION:More info: http://www.hdcf.fi/
URL:https://h-dctwente.nl/event/44th-international-rally-h-dcf/
END:VEVENT
BEGIN:VEVENT
DTSTART;VALUE=DATE:20240712
DTEND;VALUE=DATE:20240715
DTSTAMP:20260420T031954
CREATED:20240308T141304Z
LAST-MODIFIED:20240308T141304Z
UID:1354-1720742400-1721001599@h-dctwente.nl
SUMMARY:35th Anniversary Rally (H-DCW)
DESCRIPTION:More info: http://www.h-dcw.com/
URL:https://h-dctwente.nl/event/35th-anniversary-rally-h-dcw/
END:VEVENT
BEGIN:VEVENT
DTSTART;VALUE=DATE:20240713
DTEND;VALUE=DATE:20240715
DTSTAMP:20260420T031954
CREATED:20240308T141141Z
LAST-MODIFIED:20240308T141141Z
UID:1352-1720828800-1721001599@h-dctwente.nl
SUMMARY:17th International Harley Days (H-DCA)
DESCRIPTION:More info: http://www.hdcassenede.be/
URL:https://h-dctwente.nl/event/17th-international-harley-days-h-dca/
END:VEVENT
BEGIN:VEVENT
DTSTART;VALUE=DATE:20240719
DTEND;VALUE=DATE:20240720
DTSTAMP:20260420T031954
CREATED:20240308T141515Z
LAST-MODIFIED:20240308T141515Z
UID:1358-1721347200-1721433599@h-dctwente.nl
SUMMARY:Chill Out Rally (H-DRCGB)
DESCRIPTION:More info: https://www.hdrcgb.org/
URL:https://h-dctwente.nl/event/chill-out-rally-h-drcgb/
END:VEVENT
BEGIN:VEVENT
DTSTART;VALUE=DATE:20240719
DTEND;VALUE=DATE:20240722
DTSTAMP:20260420T031954
CREATED:20240308T141423Z
LAST-MODIFIED:20240308T141423Z
UID:1356-1721347200-1721606399@h-dctwente.nl
SUMMARY:H-DC Somerset 2024 Rally
DESCRIPTION:More info: https://www.hdcsomerset.co.uk/
URL:https://h-dctwente.nl/event/h-dc-somerset-2024-rally/
END:VEVENT
BEGIN:VEVENT
DTSTART;VALUE=DATE:20240726
DTEND;VALUE=DATE:20240727
DTSTAMP:20260420T031954
CREATED:20240308T141625Z
LAST-MODIFIED:20240308T141625Z
UID:1360-1721952000-1722038399@h-dctwente.nl
SUMMARY:Northeast Rally (H-DRCGB)
DESCRIPTION:More info: https://www.hdrcgb.org/
URL:https://h-dctwente.nl/event/northeast-rally-h-drcgb/
END:VEVENT
BEGIN:VEVENT
DTSTART;VALUE=DATE:20240726
DTEND;VALUE=DATE:20240729
DTSTAMP:20260420T031954
CREATED:20240308T141731Z
LAST-MODIFIED:20240308T141731Z
UID:1362-1721952000-1722211199@h-dctwente.nl
SUMMARY:Late Summer Run (H-DOCN)
DESCRIPTION:More info: https://h-docn.no/main/
URL:https://h-dctwente.nl/event/late-summer-run-h-docn/
END:VEVENT
BEGIN:VEVENT
DTSTART;VALUE=DATE:20240801
DTEND;VALUE=DATE:20240802
DTSTAMP:20260420T031954
CREATED:20240308T141946Z
LAST-MODIFIED:20240308T141946Z
UID:1364-1722470400-1722556799@h-dctwente.nl
SUMMARY:Welsh Rally (H-DRCGB)
DESCRIPTION:More info: https://www.hdrcgb.org/
URL:https://h-dctwente.nl/event/welsh-rally-h-drcgb/
END:VEVENT
BEGIN:VEVENT
DTSTART;VALUE=DATE:20240802
DTEND;VALUE=DATE:20240805
DTSTAMP:20260420T031954
CREATED:20240308T142049Z
LAST-MODIFIED:20240308T142049Z
UID:1366-1722556800-1722815999@h-dctwente.nl
SUMMARY:36th International Harley-Davidson\, Indian and Buell rally (H-DCFWK)
DESCRIPTION:More info: http://www.hdckempen.be/
URL:https://h-dctwente.nl/event/36th-international-harley-davidson-indian-and-buell-rally-h-dcfwk/
END:VEVENT
BEGIN:VEVENT
DTSTART;VALUE=DATE:20240803
DTEND;VALUE=DATE:20240804
DTSTAMP:20260420T031954
CREATED:20240308T142222Z
LAST-MODIFIED:20240308T142222Z
UID:1368-1722643200-1722729599@h-dctwente.nl
SUMMARY:Gibraltar Rally (H-DCG)
DESCRIPTION:More info: https://www.facebook.com/groups/1845863475430888
URL:https://h-dctwente.nl/event/gibraltar-rally-h-dcg/
END:VEVENT
BEGIN:VEVENT
DTSTART;VALUE=DATE:20240803
DTEND;VALUE=DATE:20240805
DTSTAMP:20260420T031954
CREATED:20240308T142329Z
LAST-MODIFIED:20240308T142329Z
UID:1370-1722643200-1722815999@h-dctwente.nl
SUMMARY:Family Rally (H-DCF)
DESCRIPTION:More info: http://www.hdcf.fi/
URL:https://h-dctwente.nl/event/family-rally-h-dcf/
END:VEVENT
BEGIN:VEVENT
DTSTART;VALUE=DATE:20240808
DTEND;VALUE=DATE:20240812
DTSTAMP:20260420T031954
CREATED:20240308T143721Z
LAST-MODIFIED:20240308T143721Z
UID:1372-1723075200-1723420799@h-dctwente.nl
SUMMARY:International Rally (H-DCS)
DESCRIPTION:More info: http://www.hdcs.se/
URL:https://h-dctwente.nl/event/international-rally-h-dcs/
END:VEVENT
BEGIN:VEVENT
DTSTART;VALUE=DATE:20240809
DTEND;VALUE=DATE:20240812
DTSTAMP:20260420T031954
CREATED:20240308T143826Z
LAST-MODIFIED:20240308T143826Z
UID:1374-1723161600-1723420799@h-dctwente.nl
SUMMARY:Run to the Arctic Fun (H-DOCN)
DESCRIPTION:More info: https://h-docn.no/main/
URL:https://h-dctwente.nl/event/run-to-the-arctic-fun-h-docn/
END:VEVENT
BEGIN:VEVENT
DTSTART;VALUE=DATE:20240823
DTEND;VALUE=DATE:20240824
DTSTAMP:20260420T031954
CREATED:20240308T143923Z
LAST-MODIFIED:20240308T143923Z
UID:1376-1724371200-1724457599@h-dctwente.nl
SUMMARY:The Pitch & Party Rally (H-DRCGB)
DESCRIPTION:More info: https://www.hdrcgb.org/
URL:https://h-dctwente.nl/event/the-pitch-party-rally-h-drcgb/
END:VEVENT
END:VCALENDAR