BEGIN:VCALENDAR
VERSION:2.0
PRODID:-//HARLEY-DAVIDSON CLUB TWENTE - ECPv6.15.20//NONSGML v1.0//EN
CALSCALE:GREGORIAN
METHOD:PUBLISH
X-WR-CALNAME:HARLEY-DAVIDSON CLUB TWENTE
X-ORIGINAL-URL:https://h-dctwente.nl
X-WR-CALDESC:Evenementen voor HARLEY-DAVIDSON CLUB TWENTE
REFRESH-INTERVAL;VALUE=DURATION:PT1H
X-Robots-Tag:noindex
X-PUBLISHED-TTL:PT1H
BEGIN:VTIMEZONE
TZID:Europe/Amsterdam
BEGIN:DAYLIGHT
TZOFFSETFROM:+0100
TZOFFSETTO:+0200
TZNAME:CEST
DTSTART:20240331T010000
END:DAYLIGHT
BEGIN:STANDARD
TZOFFSETFROM:+0200
TZOFFSETTO:+0100
TZNAME:CET
DTSTART:20241027T010000
END:STANDARD
BEGIN:DAYLIGHT
TZOFFSETFROM:+0100
TZOFFSETTO:+0200
TZNAME:CEST
DTSTART:20250330T010000
END:DAYLIGHT
BEGIN:STANDARD
TZOFFSETFROM:+0200
TZOFFSETTO:+0100
TZNAME:CET
DTSTART:20251026T010000
END:STANDARD
BEGIN:DAYLIGHT
TZOFFSETFROM:+0100
TZOFFSETTO:+0200
TZNAME:CEST
DTSTART:20260329T010000
END:DAYLIGHT
BEGIN:STANDARD
TZOFFSETFROM:+0200
TZOFFSETTO:+0100
TZNAME:CET
DTSTART:20261025T010000
END:STANDARD
END:VTIMEZONE
BEGIN:VEVENT
DTSTART;VALUE=DATE:20250822
DTEND;VALUE=DATE:20250825
DTSTAMP:20260420T022110
CREATED:20250410T232625Z
LAST-MODIFIED:20250410T232625Z
UID:3528-1755820800-1756079999@h-dctwente.nl
SUMMARY:NorthRally (H-DCDK)
DESCRIPTION:More info: https://hdcn.dk/
URL:https://h-dctwente.nl/event/northrally-h-dcdk/
END:VEVENT
BEGIN:VEVENT
DTSTART;VALUE=DATE:20250829
DTEND;VALUE=DATE:20250901
DTSTAMP:20260420T022110
CREATED:20250410T232721Z
LAST-MODIFIED:20250410T232721Z
UID:3530-1756425600-1756684799@h-dctwente.nl
SUMMARY:Back to the Roots (H-DCF)
DESCRIPTION:More info: http://www.hdcf.fi/
URL:https://h-dctwente.nl/event/back-to-the-roots-h-dcf/
END:VEVENT
BEGIN:VEVENT
DTSTART;VALUE=DATE:20250829
DTEND;VALUE=DATE:20250901
DTSTAMP:20260420T022110
CREATED:20250410T232818Z
LAST-MODIFIED:20250410T232818Z
UID:3532-1756425600-1756684799@h-dctwente.nl
SUMMARY:Offshore Rally (R28/H-DRCGB)
DESCRIPTION:More info: https://www.hdrcgb.org/
URL:https://h-dctwente.nl/event/offshore-rally-r28-h-drcgb/
END:VEVENT
BEGIN:VEVENT
DTSTART;VALUE=DATE:20250911
DTEND;VALUE=DATE:20250915
DTSTAMP:20260420T022110
CREATED:20250410T232935Z
LAST-MODIFIED:20250410T232935Z
UID:3534-1757548800-1757894399@h-dctwente.nl
SUMMARY:XL Rally Big Twin Club Spain (H-DCBTE)
DESCRIPTION:More info: http://www.bigtwinspain.com/
URL:https://h-dctwente.nl/event/xl-rally-big-twin-club-spain-h-dcbte/
END:VEVENT
BEGIN:VEVENT
DTSTART;VALUE=DATE:20250919
DTEND;VALUE=DATE:20250922
DTSTAMP:20260420T022110
CREATED:20250410T233030Z
LAST-MODIFIED:20250410T233030Z
UID:3536-1758240000-1758499199@h-dctwente.nl
SUMMARY:54th International Rally (H-DC'tC)
DESCRIPTION:More info: https://www.hdc-centrum.nl/
URL:https://h-dctwente.nl/event/54th-international-rally-h-dctc/
END:VEVENT
BEGIN:VEVENT
DTSTART;VALUE=DATE:20250919
DTEND;VALUE=DATE:20250922
DTSTAMP:20260420T022110
CREATED:20250410T233158Z
LAST-MODIFIED:20250410T233158Z
UID:3538-1758240000-1758499199@h-dctwente.nl
SUMMARY:Last Mile 2025 (H-CP)
DESCRIPTION:More info: https://www.hdcp.cz/
URL:https://h-dctwente.nl/event/last-mile-2025-h-cp/
END:VEVENT
BEGIN:VEVENT
DTSTART;VALUE=DATE:20250926
DTEND;VALUE=DATE:20250929
DTSTAMP:20260420T022110
CREATED:20250410T233302Z
LAST-MODIFIED:20250410T233302Z
UID:3540-1758844800-1759103999@h-dctwente.nl
SUMMARY:End of Season (H-DCF)
DESCRIPTION:More info: http://www.hdcf.fi/
URL:https://h-dctwente.nl/event/end-of-season-h-dcf/
END:VEVENT
END:VCALENDAR