BEGIN:VCALENDAR
VERSION:2.0
PRODID:-//HARLEY-DAVIDSON CLUB TWENTE - ECPv6.15.20//NONSGML v1.0//EN
CALSCALE:GREGORIAN
METHOD:PUBLISH
X-WR-CALNAME:HARLEY-DAVIDSON CLUB TWENTE
X-ORIGINAL-URL:https://h-dctwente.nl
X-WR-CALDESC:Evenementen voor HARLEY-DAVIDSON CLUB TWENTE
REFRESH-INTERVAL;VALUE=DURATION:PT1H
X-Robots-Tag:noindex
X-PUBLISHED-TTL:PT1H
BEGIN:VTIMEZONE
TZID:Europe/Amsterdam
BEGIN:DAYLIGHT
TZOFFSETFROM:+0100
TZOFFSETTO:+0200
TZNAME:CEST
DTSTART:20240331T010000
END:DAYLIGHT
BEGIN:STANDARD
TZOFFSETFROM:+0200
TZOFFSETTO:+0100
TZNAME:CET
DTSTART:20241027T010000
END:STANDARD
BEGIN:DAYLIGHT
TZOFFSETFROM:+0100
TZOFFSETTO:+0200
TZNAME:CEST
DTSTART:20250330T010000
END:DAYLIGHT
BEGIN:STANDARD
TZOFFSETFROM:+0200
TZOFFSETTO:+0100
TZNAME:CET
DTSTART:20251026T010000
END:STANDARD
BEGIN:DAYLIGHT
TZOFFSETFROM:+0100
TZOFFSETTO:+0200
TZNAME:CEST
DTSTART:20260329T010000
END:DAYLIGHT
BEGIN:STANDARD
TZOFFSETFROM:+0200
TZOFFSETTO:+0100
TZNAME:CET
DTSTART:20261025T010000
END:STANDARD
END:VTIMEZONE
BEGIN:VEVENT
DTSTART;VALUE=DATE:20250412
DTEND;VALUE=DATE:20250413
DTSTAMP:20260419T184019
CREATED:20250409T114602Z
LAST-MODIFIED:20250409T114718Z
UID:3444-1744416000-1744502399@h-dctwente.nl
SUMMARY:Motorweekend (H-DCL)
DESCRIPTION:More info: https://www.hdcliberator.nl/
URL:https://h-dctwente.nl/event/motorweekend-h-dcl-2/
END:VEVENT
BEGIN:VEVENT
DTSTART;VALUE=DATE:20250413
DTEND;VALUE=DATE:20250414
DTSTAMP:20260419T184019
CREATED:20250409T124257Z
LAST-MODIFIED:20250409T124511Z
UID:3447-1744502400-1744588799@h-dctwente.nl
SUMMARY:NL/BE FH-DCE Opening Ride 2025
DESCRIPTION:
URL:https://h-dctwente.nl/event/nl-be-fh-dce-opening-ride-2025/
END:VEVENT
BEGIN:VEVENT
DTSTART;VALUE=DATE:20250425
DTEND;VALUE=DATE:20250428
DTSTAMP:20260419T184019
CREATED:20250409T124552Z
LAST-MODIFIED:20250409T124823Z
UID:3451-1745539200-1745798399@h-dctwente.nl
SUMMARY:1st Mile Rally 2025 (H-CP)
DESCRIPTION:More info: https://www.hdcp.cz
URL:https://h-dctwente.nl/event/1st-mile-rally-2025-h-cp/
END:VEVENT
BEGIN:VEVENT
DTSTART;VALUE=DATE:20250425
DTEND;VALUE=DATE:20250428
DTSTAMP:20260419T184019
CREATED:20250409T124651Z
LAST-MODIFIED:20250409T124758Z
UID:3454-1745539200-1745798399@h-dctwente.nl
SUMMARY:Drover's Rally (R7/H-DRCGB)
DESCRIPTION:More info: https://www.hdrcgb.org/
URL:https://h-dctwente.nl/event/drovers-rally-r7-h-drcgb/
END:VEVENT
END:VCALENDAR