BEGIN:VCALENDAR
VERSION:2.0
PRODID:-//HARLEY-DAVIDSON CLUB TWENTE - ECPv6.15.20//NONSGML v1.0//EN
CALSCALE:GREGORIAN
METHOD:PUBLISH
X-WR-CALNAME:HARLEY-DAVIDSON CLUB TWENTE
X-ORIGINAL-URL:https://h-dctwente.nl
X-WR-CALDESC:Evenementen voor HARLEY-DAVIDSON CLUB TWENTE
REFRESH-INTERVAL;VALUE=DURATION:PT1H
X-Robots-Tag:noindex
X-PUBLISHED-TTL:PT1H
BEGIN:VTIMEZONE
TZID:Europe/Amsterdam
BEGIN:DAYLIGHT
TZOFFSETFROM:+0100
TZOFFSETTO:+0200
TZNAME:CEST
DTSTART:20240331T010000
END:DAYLIGHT
BEGIN:STANDARD
TZOFFSETFROM:+0200
TZOFFSETTO:+0100
TZNAME:CET
DTSTART:20241027T010000
END:STANDARD
BEGIN:DAYLIGHT
TZOFFSETFROM:+0100
TZOFFSETTO:+0200
TZNAME:CEST
DTSTART:20250330T010000
END:DAYLIGHT
BEGIN:STANDARD
TZOFFSETFROM:+0200
TZOFFSETTO:+0100
TZNAME:CET
DTSTART:20251026T010000
END:STANDARD
BEGIN:DAYLIGHT
TZOFFSETFROM:+0100
TZOFFSETTO:+0200
TZNAME:CEST
DTSTART:20260329T010000
END:DAYLIGHT
BEGIN:STANDARD
TZOFFSETFROM:+0200
TZOFFSETTO:+0100
TZNAME:CET
DTSTART:20261025T010000
END:STANDARD
END:VTIMEZONE
BEGIN:VEVENT
DTSTART;VALUE=DATE:20250502
DTEND;VALUE=DATE:20250505
DTSTAMP:20260419T201226
CREATED:20250410T000828Z
LAST-MODIFIED:20250410T000828Z
UID:3459-1746144000-1746403199@h-dctwente.nl
SUMMARY:Dutch Spring Rally (H-DCN)
DESCRIPTION:More info: H-DCN Regio Utrecht
URL:https://h-dctwente.nl/event/dutch-spring-rally-h-dcn/
END:VEVENT
BEGIN:VEVENT
DTSTART;VALUE=DATE:20250509
DTEND;VALUE=DATE:20250512
DTSTAMP:20260419T201226
CREATED:20250410T001035Z
LAST-MODIFIED:20250410T001035Z
UID:3461-1746748800-1747007999@h-dctwente.nl
SUMMARY:The Wessex Wobbler (R14/H-DRCGB)
DESCRIPTION:More info: https://www.hdrcgb.org/
URL:https://h-dctwente.nl/event/the-wessex-wobbler-r14-h-drcgb/
END:VEVENT
BEGIN:VEVENT
DTSTART;VALUE=DATE:20250516
DTEND;VALUE=DATE:20250519
DTSTAMP:20260419T201226
CREATED:20250410T001558Z
LAST-MODIFIED:20250410T001558Z
UID:3464-1747353600-1747612799@h-dctwente.nl
SUMMARY:No More F###ing Church Bells (R11/H-DRCGB)
DESCRIPTION:More info: https://www.hdrcgb.org/
URL:https://h-dctwente.nl/event/no-more-fing-church-bells-r11-h-drcgb/
END:VEVENT
BEGIN:VEVENT
DTSTART;VALUE=DATE:20250522
DTEND;VALUE=DATE:20250527
DTSTAMP:20260419T201226
CREATED:20250410T001909Z
LAST-MODIFIED:20250410T001949Z
UID:3466-1747872000-1748303999@h-dctwente.nl
SUMMARY:Wallace Rally (CHC)
DESCRIPTION:More info: http://www.caledoniahc.com/
URL:https://h-dctwente.nl/event/wallace-rally-chc/
END:VEVENT
BEGIN:VEVENT
DTSTART;VALUE=DATE:20250524
DTEND;VALUE=DATE:20250526
DTSTAMP:20260419T201226
CREATED:20250410T002307Z
LAST-MODIFIED:20250410T002307Z
UID:3468-1748044800-1748217599@h-dctwente.nl
SUMMARY:Danish Bike Meet (H-DCDK)
DESCRIPTION:More info: https://hdcm.dk/
URL:https://h-dctwente.nl/event/danish-bike-meet-h-dcdk/
END:VEVENT
END:VCALENDAR