BEGIN:VCALENDAR
VERSION:2.0
PRODID:-//HARLEY-DAVIDSON CLUB TWENTE - ECPv6.15.20//NONSGML v1.0//EN
CALSCALE:GREGORIAN
METHOD:PUBLISH
X-ORIGINAL-URL:https://h-dctwente.nl
X-WR-CALDESC:Evenementen voor HARLEY-DAVIDSON CLUB TWENTE
REFRESH-INTERVAL;VALUE=DURATION:PT1H
X-Robots-Tag:noindex
X-PUBLISHED-TTL:PT1H
BEGIN:VTIMEZONE
TZID:Europe/Amsterdam
BEGIN:DAYLIGHT
TZOFFSETFROM:+0100
TZOFFSETTO:+0200
TZNAME:CEST
DTSTART:20240331T010000
END:DAYLIGHT
BEGIN:STANDARD
TZOFFSETFROM:+0200
TZOFFSETTO:+0100
TZNAME:CET
DTSTART:20241027T010000
END:STANDARD
BEGIN:DAYLIGHT
TZOFFSETFROM:+0100
TZOFFSETTO:+0200
TZNAME:CEST
DTSTART:20250330T010000
END:DAYLIGHT
BEGIN:STANDARD
TZOFFSETFROM:+0200
TZOFFSETTO:+0100
TZNAME:CET
DTSTART:20251026T010000
END:STANDARD
BEGIN:DAYLIGHT
TZOFFSETFROM:+0100
TZOFFSETTO:+0200
TZNAME:CEST
DTSTART:20260329T010000
END:DAYLIGHT
BEGIN:STANDARD
TZOFFSETFROM:+0200
TZOFFSETTO:+0100
TZNAME:CET
DTSTART:20261025T010000
END:STANDARD
END:VTIMEZONE
BEGIN:VEVENT
DTSTART;VALUE=DATE:20250704
DTEND;VALUE=DATE:20250705
DTSTAMP:20260419T230250
CREATED:20250410T005456Z
LAST-MODIFIED:20250410T005456Z
UID:3492-1751587200-1751673599@h-dctwente.nl
SUMMARY:The Lakes Rally (R4/H-DRCGB)
DESCRIPTION:More info: https://www.hdrcgb.org/
URL:https://h-dctwente.nl/event/the-lakes-rally-r4-h-drcgb/
END:VEVENT
BEGIN:VEVENT
DTSTART;VALUE=DATE:20250704
DTEND;VALUE=DATE:20250707
DTSTAMP:20260419T230250
CREATED:20250410T005209Z
LAST-MODIFIED:20250410T005209Z
UID:3488-1751587200-1751846399@h-dctwente.nl
SUMMARY:The Harley Hooley 2025 (HRI)
DESCRIPTION:More info: https://harleyridersireland.ie/
URL:https://h-dctwente.nl/event/the-harley-hooley-2025-hri/
END:VEVENT
BEGIN:VEVENT
DTSTART;VALUE=DATE:20250704
DTEND;VALUE=DATE:20250707
DTSTAMP:20260419T230250
CREATED:20250410T005321Z
LAST-MODIFIED:20250410T005321Z
UID:3490-1751587200-1751846399@h-dctwente.nl
SUMMARY:Weeley Weekender (R16/H-DRCGB)
DESCRIPTION:More info: https://www.hdrcgb.org/
URL:https://h-dctwente.nl/event/weeley-weekender-r16-h-drcgb/
END:VEVENT
BEGIN:VEVENT
DTSTART;VALUE=DATE:20250710
DTEND;VALUE=DATE:20250714
DTSTAMP:20260419T230250
CREATED:20250410T005611Z
LAST-MODIFIED:20250410T005611Z
UID:3494-1752105600-1752451199@h-dctwente.nl
SUMMARY:International Rally (H-DCF)
DESCRIPTION:More info: http://www.hdcf.fi/
URL:https://h-dctwente.nl/event/international-rally-h-dcf/
END:VEVENT
BEGIN:VEVENT
DTSTART;VALUE=DATE:20250711
DTEND;VALUE=DATE:20250714
DTSTAMP:20260419T230250
CREATED:20250410T005815Z
LAST-MODIFIED:20250410T005815Z
UID:3496-1752192000-1752451199@h-dctwente.nl
SUMMARY:BornholmerRally (H-DCDK)
DESCRIPTION:More info: https://hdcb.dk/
URL:https://h-dctwente.nl/event/bornholmerrally-h-dcdk/
END:VEVENT
BEGIN:VEVENT
DTSTART;VALUE=DATE:20250711
DTEND;VALUE=DATE:20250714
DTSTAMP:20260419T230250
CREATED:20250410T005944Z
LAST-MODIFIED:20250410T005944Z
UID:3498-1752192000-1752451199@h-dctwente.nl
SUMMARY:2025 Rally (H-DCW)
DESCRIPTION:
URL:https://h-dctwente.nl/event/2025-rally-h-dcw/
END:VEVENT
BEGIN:VEVENT
DTSTART;VALUE=DATE:20250711
DTEND;VALUE=DATE:20250714
DTSTAMP:20260419T230250
CREATED:20250410T010054Z
LAST-MODIFIED:20250410T010054Z
UID:3500-1752192000-1752451199@h-dctwente.nl
SUMMARY:The Triple Rally (R18&R20/H-DRCGB)
DESCRIPTION:More info: https://www.hdrcgb.org/
URL:https://h-dctwente.nl/event/the-triple-rally-r18r20-h-drcgb/
END:VEVENT
BEGIN:VEVENT
DTSTART;VALUE=DATE:20250718
DTEND;VALUE=DATE:20250719
DTSTAMP:20260419T230250
CREATED:20250410T010303Z
LAST-MODIFIED:20250410T010303Z
UID:3504-1752796800-1752883199@h-dctwente.nl
SUMMARY:Chill Out Rally (R9/H-DRCGB)
DESCRIPTION:More info: https://www.hdrcgb.org/
URL:https://h-dctwente.nl/event/chill-out-rally-r9-h-drcgb/
END:VEVENT
BEGIN:VEVENT
DTSTART;VALUE=DATE:20250718
DTEND;VALUE=DATE:20250721
DTSTAMP:20260419T230250
CREATED:20250410T010201Z
LAST-MODIFIED:20250410T010201Z
UID:3502-1752796800-1753055999@h-dctwente.nl
SUMMARY:H-DC Somerset 2025 Rally (H-DCS)
DESCRIPTION:More info: https://www.hdcsomerset.co.uk/
URL:https://h-dctwente.nl/event/h-dc-somerset-2025-rally-h-dcs/
END:VEVENT
BEGIN:VEVENT
DTSTART;VALUE=DATE:20250725
DTEND;VALUE=DATE:20250726
DTSTAMP:20260419T230250
CREATED:20250410T010735Z
LAST-MODIFIED:20250410T010735Z
UID:3512-1753401600-1753487999@h-dctwente.nl
SUMMARY:Northeast Rally (R3/H-DRCGB)
DESCRIPTION:More info: https://www.hdrcgb.org/
URL:https://h-dctwente.nl/event/northeast-rally-r3-h-drcgb/
END:VEVENT
BEGIN:VEVENT
DTSTART;VALUE=DATE:20250725
DTEND;VALUE=DATE:20250728
DTSTAMP:20260419T230250
CREATED:20250410T010358Z
LAST-MODIFIED:20250410T010358Z
UID:3506-1753401600-1753660799@h-dctwente.nl
SUMMARY:Fyns Harley Meeting (H-DCDK)
DESCRIPTION:More info: https://hdcf.dk/
URL:https://h-dctwente.nl/event/fyns-harley-meeting-h-dcdk/
END:VEVENT
BEGIN:VEVENT
DTSTART;VALUE=DATE:20250725
DTEND;VALUE=DATE:20250728
DTSTAMP:20260419T230250
CREATED:20250410T010502Z
LAST-MODIFIED:20250410T010502Z
UID:3508-1753401600-1753660799@h-dctwente.nl
SUMMARY:Burning Budgie 2025 (WLHR)
DESCRIPTION:More info: https://www.facebook.com/groups/111442553395/?ref=share
URL:https://h-dctwente.nl/event/burning-budgie-2025-wlhr/
END:VEVENT
BEGIN:VEVENT
DTSTART;VALUE=DATE:20250725
DTEND;VALUE=DATE:20250728
DTSTAMP:20260419T230250
CREATED:20250410T010559Z
LAST-MODIFIED:20250410T010559Z
UID:3510-1753401600-1753660799@h-dctwente.nl
SUMMARY:Pitch & Party (R17/H-DRCGB)
DESCRIPTION:More info: https://www.hdrcgb.org/
URL:https://h-dctwente.nl/event/pitch-party-r17-h-drcgb/
END:VEVENT
END:VCALENDAR